BEGIN:VCALENDAR
VERSION:2.0
PRODID:-//Find Kenmore - ECPv6.15.20//NONSGML v1.0//EN
CALSCALE:GREGORIAN
METHOD:PUBLISH
X-WR-CALNAME:Find Kenmore
X-ORIGINAL-URL:https://findkenmore.org
X-WR-CALDESC:Events for Find Kenmore
REFRESH-INTERVAL;VALUE=DURATION:PT1H
X-Robots-Tag:noindex
X-PUBLISHED-TTL:PT1H
BEGIN:VTIMEZONE
TZID:America/Los_Angeles
BEGIN:DAYLIGHT
TZOFFSETFROM:-0800
TZOFFSETTO:-0700
TZNAME:PDT
DTSTART:20250309T100000
END:DAYLIGHT
BEGIN:STANDARD
TZOFFSETFROM:-0700
TZOFFSETTO:-0800
TZNAME:PST
DTSTART:20251102T090000
END:STANDARD
BEGIN:DAYLIGHT
TZOFFSETFROM:-0800
TZOFFSETTO:-0700
TZNAME:PDT
DTSTART:20260308T100000
END:DAYLIGHT
BEGIN:STANDARD
TZOFFSETFROM:-0700
TZOFFSETTO:-0800
TZNAME:PST
DTSTART:20261101T090000
END:STANDARD
BEGIN:DAYLIGHT
TZOFFSETFROM:-0800
TZOFFSETTO:-0700
TZNAME:PDT
DTSTART:20270314T100000
END:DAYLIGHT
BEGIN:STANDARD
TZOFFSETFROM:-0700
TZOFFSETTO:-0800
TZNAME:PST
DTSTART:20271107T090000
END:STANDARD
END:VTIMEZONE
BEGIN:VEVENT
DTSTART;TZID=America/Los_Angeles:20260424T140000
DTEND;TZID=America/Los_Angeles:20260424T153000
DTSTAMP:20260421T015814
CREATED:20260406T184537Z
LAST-MODIFIED:20260406T184537Z
UID:8374-1777039200-1777044600@findkenmore.org
SUMMARY:Kenmore Afternoon Book Group
DESCRIPTION:The Hazelbourne Ladies Motorcycle and Flying Club by Helen Simonson. \nPlease register to receive discussion questions. If you register\, you will be emailed a link the day before the program\, so that you can attend online if you wish. Register for each session that you wish to attend. Walk-ins welcome. \nAll events are listed here: https://1.kcls.org/KMBookGroup.
URL:https://findkenmore.org/event/kenmore-afternoon-book-group/
LOCATION:Kenmore Library\, 6531 NE 181st Street\, Kenmore\, 98028
ATTACH;FMTTYPE=image/jpeg:https://findkenmore.org/wp-content/uploads/2026/03/Hazelbourne.jpg
ORGANIZER;CN="Kenmore Library":MAILTO:jgibson@kcls.org
END:VEVENT
BEGIN:VEVENT
DTSTART;TZID=America/Los_Angeles:20260424T190000
DTEND;TZID=America/Los_Angeles:20260424T210000
DTSTAMP:20260421T015814
CREATED:20260318T230634Z
LAST-MODIFIED:20260318T230634Z
UID:8300-1777057200-1777064400@findkenmore.org
SUMMARY:IMAGINE Presents "Seussical"
DESCRIPTION:About the Show\n\nThis musical is a joyful\, high-energy celebration of the beloved world of Dr. Seuss\, full of imagination\, kindness\, and heart. Bursting with colorful characters\, playful humor\, and unforgettable songs\, it is a delight for audiences of all ages. \nThe Cat in the Hat tells the story of Horton\, an elephant who discovers a speck of dust that contains the Whos\, including Jojo\, a Who child sent off to military school for thinking too many “thinks.” Horton faces a double challenge: not only must he protect the Whos from a world of naysayers and dangers\, but he must guard an abandoned egg. Ultimately\, the powers of friendship\, loyalty\, family\, and community are challenged and emerge triumphant. \nBy Stephen Flaherty and Lynn Ahrens \n\nPerformance Dates \nApril 24-26\, May 01-03 \nFridays/Saturdays: Doors open @6:30\, Show begins @7PM \nSundays: Doors open @2:30\, Show begins @3PM \nPerformance Location \nNorthlake Lutheran Church \nReserve your tickets today on Zeffy! \n  \nWhile we do not charge for tickets\, we suggest a donation of $20 per ticket to help cover the costs of putting on a production like this. Your donation supports our mission to continue offering programming and events at no cost to the community. \nDoors open 30 minutes before showtime. When you arrive\, please check in by providing the name under which your tickets were reserved. There’s no need to present a physical ticket for entry. \nMore questions?  Please email office@imaginepnw.org
URL:https://findkenmore.org/event/imagine-presents-seussical-6/
LOCATION:Northlake Lutheran Church\, 6620 NE 185th Street\, Kenmore\, WA\, 98028\, United States
ATTACH;FMTTYPE=image/jpeg:https://findkenmore.org/wp-content/uploads/2026/03/Seussical_Poster_Portrait.pptx.jpg
ORGANIZER;CN="Northlake Lutheran Church":MAILTO:Office@northlakelutheran.org
END:VEVENT
BEGIN:VEVENT
DTSTART;TZID=America/Los_Angeles:20260424T200000
DTEND;TZID=America/Los_Angeles:20260424T213000
DTSTAMP:20260421T015814
CREATED:20260406T184617Z
LAST-MODIFIED:20260406T184617Z
UID:8379-1777060800-1777066200@findkenmore.org
SUMMARY:Yoga Nidra & Sound Bath
DESCRIPTION:Join Rachel and Adam for a special Yoga Nidra Meditation & Sound Bath. We will begin with a little bit of movement to relax the body\, while focusing on intention setting\, followed by about 30 minutes of Yoga Nidra Meditation. As we drift into the yogic sleep\, we will transition smoothly into our Sound Bath.\n\nYoga Nidra (also known as yogic sleep) will recharge your body and help you experience a deep restorative relaxation. This is an immensely powerful meditation technique\, a paradoxical state of being between sleep and consciousness that’s conducive to deep emotional and physical healing\, rewiring your brain\, and self-exploration.\n\nSound Healing has been practiced for thousands of years and is a beautiful way to reset your emotional and physical body. With a combination of Tibetan bowls\, crystal bowls\, drums\, percussive instruments\, chanting\, bells and more.\nBring a yoga mat\, pillow\, blanket\, and anything else you need to be comfortable.
URL:https://findkenmore.org/event/yoga-nidra-sound-bath/
LOCATION:Lakeview Yoga\, 7800 NE Bothell Way\, Suite 155\, Kenmore\, WA\, 98028\, United States
ATTACH;FMTTYPE=image/png:https://findkenmore.org/wp-content/uploads/2026/03/Lakeview-w-rachel-April-2.png
END:VEVENT
BEGIN:VEVENT
DTSTART;TZID=America/Los_Angeles:20260425T190000
DTEND;TZID=America/Los_Angeles:20260425T210000
DTSTAMP:20260421T015814
CREATED:20260318T230550Z
LAST-MODIFIED:20260318T230550Z
UID:8305-1777143600-1777150800@findkenmore.org
SUMMARY:IMAGINE Presents "Seussical"
DESCRIPTION:About the Show\n\nThis musical is a joyful\, high-energy celebration of the beloved world of Dr. Seuss\, full of imagination\, kindness\, and heart. Bursting with colorful characters\, playful humor\, and unforgettable songs\, it is a delight for audiences of all ages. \nThe Cat in the Hat tells the story of Horton\, an elephant who discovers a speck of dust that contains the Whos\, including Jojo\, a Who child sent off to military school for thinking too many “thinks.” Horton faces a double challenge: not only must he protect the Whos from a world of naysayers and dangers\, but he must guard an abandoned egg. Ultimately\, the powers of friendship\, loyalty\, family\, and community are challenged and emerge triumphant. \nBy Stephen Flaherty and Lynn Ahrens \n\nPerformance Dates \nApril 24-26\, May 01-03 \nFridays/Saturdays: Doors open @6:30\, Show begins @7PM \nSundays: Doors open @2:30\, Show begins @3PM \nPerformance Location \nNorthlake Lutheran Church \nReserve your tickets today on Zeffy! \n  \nWhile we do not charge for tickets\, we suggest a donation of $20 per ticket to help cover the costs of putting on a production like this. Your donation supports our mission to continue offering programming and events at no cost to the community. \nDoors open 30 minutes before showtime. When you arrive\, please check in by providing the name under which your tickets were reserved. There’s no need to present a physical ticket for entry. \nMore questions?  Please email office@imaginepnw.org
URL:https://findkenmore.org/event/imagine-presents-seussical-5/
LOCATION:Northlake Lutheran Church\, 6620 NE 185th Street\, Kenmore\, WA\, 98028\, United States
ATTACH;FMTTYPE=image/jpeg:https://findkenmore.org/wp-content/uploads/2026/03/Seussical_Poster_Portrait.pptx-1.jpg
ORGANIZER;CN="Northlake Lutheran Church":MAILTO:Office@northlakelutheran.org
END:VEVENT
BEGIN:VEVENT
DTSTART;TZID=America/Los_Angeles:20260426T150000
DTEND;TZID=America/Los_Angeles:20260426T170000
DTSTAMP:20260421T015814
CREATED:20260318T230518Z
LAST-MODIFIED:20260318T230518Z
UID:8310-1777215600-1777222800@findkenmore.org
SUMMARY:IMAGINE Presents "Seussical"
DESCRIPTION:About the Show\n\nThis musical is a joyful\, high-energy celebration of the beloved world of Dr. Seuss\, full of imagination\, kindness\, and heart. Bursting with colorful characters\, playful humor\, and unforgettable songs\, it is a delight for audiences of all ages. \nThe Cat in the Hat tells the story of Horton\, an elephant who discovers a speck of dust that contains the Whos\, including Jojo\, a Who child sent off to military school for thinking too many “thinks.” Horton faces a double challenge: not only must he protect the Whos from a world of naysayers and dangers\, but he must guard an abandoned egg. Ultimately\, the powers of friendship\, loyalty\, family\, and community are challenged and emerge triumphant. \nBy Stephen Flaherty and Lynn Ahrens \n\nPerformance Dates \nApril 24-26\, May 01-03 \nFridays/Saturdays: Doors open @6:30\, Show begins @7PM \nSundays: Doors open @2:30\, Show begins @3PM \nPerformance Location \nNorthlake Lutheran Church \nReserve your tickets today on Zeffy! \n  \nWhile we do not charge for tickets\, we suggest a donation of $20 per ticket to help cover the costs of putting on a production like this. Your donation supports our mission to continue offering programming and events at no cost to the community. \nDoors open 30 minutes before showtime. When you arrive\, please check in by providing the name under which your tickets were reserved. There’s no need to present a physical ticket for entry. \nMore questions?  Please email office@imaginepnw.org
URL:https://findkenmore.org/event/imagine-presents-seussical-4/
LOCATION:Northlake Lutheran Church\, 6620 NE 185th Street\, Kenmore\, WA\, 98028\, United States
ATTACH;FMTTYPE=image/jpeg:https://findkenmore.org/wp-content/uploads/2026/03/Seussical_Poster_Portrait.pptx-2.jpg
ORGANIZER;CN="Northlake Lutheran Church":MAILTO:Office@northlakelutheran.org
END:VEVENT
BEGIN:VEVENT
DTSTART;VALUE=DATE:20260429
DTEND;VALUE=DATE:20260430
DTSTAMP:20260421T015814
CREATED:20260124T003910Z
LAST-MODIFIED:20260124T003910Z
UID:7933-1777420800-1777507199@findkenmore.org
SUMMARY:De La Soil | Dinner With Friends: Chef David Nichols
DESCRIPTION:Welcome to “Dinner with Friends” a chance for us to collaborate with our friends featuring seasonal tasting menus crafted in partnership with award-winning guest chefs. Each menu showcases the region’s finest ingredients sourced from local farms and paired with Copperworks’ acclaimed craft spirits. \n“These dinners are about bringing together the chefs and people who inspire us\,” said Chef Cody Westerfield\, co-owner of De La Soil. “Each collaboration tells a story of friendship\, shared values around food and farming\, and our collective commitment to showcasing what makes the Pacific Northwest so special.”
URL:https://findkenmore.org/event/de-la-soil-dinner-with-friends-chef-david-nichols/
LOCATION:De La Soil\, 7324 NE 175th St\, Kenmore\, WA\, 98028\, United States
END:VEVENT
END:VCALENDAR